BEGIN:VCALENDAR
VERSION:2.0
PRODID:-//www.gramonet.cz//GramonetCalLib 1.0//EN
CALSCALE:GREGORIAN
METHOD:PUBLISH
BEGIN:VEVENT
SUMMARY:Zábavný den dětí aneb trochu jinak "V pohádkovém lese"
LOCATION:Zbýšov
DTSTART:20240615T000000
DTEND:20240616T000000
UID:2026-04-19-19-37-20@infocaslav.cz
DTSTAMP:20260419T173720
Description:
END:VEVENT
END:VCALENDAR
