BEGIN:VCALENDAR
VERSION:2.0
PRODID:-//www.gramonet.cz//GramonetCalLib 1.0//EN
CALSCALE:GREGORIAN
METHOD:PUBLISH
BEGIN:VEVENT
SUMMARY:Zahájení cross country sezóny 2025
LOCATION:Golčův Jeníkov
DTSTART:20250426T000000
DTEND:20250427T000000
UID:2026-04-19-21-11-21@infocaslav.cz
DTSTAMP:20260419T191121
Description:
END:VEVENT
END:VCALENDAR
