BEGIN:VCALENDAR
VERSION:2.0
PRODID:-//www.gramonet.cz//GramonetCalLib 1.0//EN
CALSCALE:GREGORIAN
METHOD:PUBLISH
BEGIN:VEVENT
SUMMARY:Zahájení návštěvnické sezóny 2022
LOCATION:Národní zemědělské muzeum Čáslav Muzeum Jeníkovská 1762, 
 286 01 Čáslav-Nové Město, Česko
DTSTART:20220402T000000
DTEND:20220404T000000
UID:2026-04-19-19-36-16@infocaslav.cz
DTSTAMP:20260419T173616
Description:
END:VEVENT
END:VCALENDAR
