BEGIN:VCALENDAR
VERSION:2.0
PRODID:-//www.gramonet.cz//GramonetCalLib 1.0//EN
CALSCALE:GREGORIAN
METHOD:PUBLISH
BEGIN:VEVENT
SUMMARY:Zahájení sezóny - Kolínská Řepařská Drážka
LOCATION:Kolínská řepařská drážka
DTSTART:20240427T000000
DTEND:20240429T000000
UID:2026-04-19-21-07-16@infocaslav.cz
DTSTAMP:20260419T190716
Description:
END:VEVENT
END:VCALENDAR
