BEGIN:VCALENDAR
VERSION:2.0
PRODID:-//www.gramonet.cz//GramonetCalLib 1.0//EN
CALSCALE:GREGORIAN
METHOD:PUBLISH
BEGIN:VEVENT
SUMMARY:Zahájení sezóny - Městské muzeum Čáslav
LOCATION:Městské muzeum
DTSTART:20250405T000000
DTEND:20250406T000000
UID:2026-04-19-21-07-58@infocaslav.cz
DTSTAMP:20260419T190758
Description:Zahájení sezóny 2025
END:VEVENT
END:VCALENDAR
