BEGIN:VCALENDAR
VERSION:2.0
PRODID:-//www.gramonet.cz//GramonetCalLib 1.0//EN
CALSCALE:GREGORIAN
METHOD:PUBLISH
BEGIN:VEVENT
SUMMARY:Zajíčkovy Velikonoce
LOCATION:DDM, Jeníkovská 222, Čáslav
DTSTART:20220414T000000
DTEND:20220415T000000
UID:2026-04-19-19-32-14@infocaslav.cz
DTSTAMP:20260419T173214
Description:
END:VEVENT
END:VCALENDAR
