BEGIN:VCALENDAR
VERSION:2.0
PRODID:-//www.gramonet.cz//GramonetCalLib 1.0//EN
CALSCALE:GREGORIAN
METHOD:PUBLISH
BEGIN:VEVENT
SUMMARY:Zámecké čajování
LOCATION:Zámek Kačina
DTSTART:20231021T000000
DTEND:20231022T000000
UID:2026-04-19-19-33-02@infocaslav.cz
DTSTAMP:20260419T173302
Description:Slavnostní zakončení návštěvnické sezóny na Kačině od
  10 do 17 hodin.
END:VEVENT
END:VCALENDAR
