BEGIN:VCALENDAR
VERSION:2.0
PRODID:-//www.gramonet.cz//GramonetCalLib 1.0//EN
CALSCALE:GREGORIAN
METHOD:PUBLISH
BEGIN:VEVENT
SUMMARY:Zámecké čajování
LOCATION:Národní zemědělské muzeum Kačina
DTSTART:20241019T000000
DTEND:20241020T000000
UID:2026-04-19-19-34-00@infocaslav.cz
DTSTAMP:20260419T173400
Description:Zámecké čajování se koná 19. 10. 2024 od 10-17 hod na Ka
 ině. Bramborové hlízy nejen na čaj\, čaje a bylinky ze zámecké zah
 rady.
END:VEVENT
END:VCALENDAR
