BEGIN:VCALENDAR
VERSION:2.0
PRODID:-//www.gramonet.cz//GramonetCalLib 1.0//EN
CALSCALE:GREGORIAN
METHOD:PUBLISH
BEGIN:VEVENT
SUMMARY:Zámecké čajování
LOCATION:Národní zemědělské muzeum Kačina
DTSTART:20251025T000000
DTEND:20251026T000000
UID:2026-04-19-19-26-41@infocaslav.cz
DTSTAMP:20260419T172641
Description:
END:VEVENT
END:VCALENDAR
