BEGIN:VCALENDAR
VERSION:2.0
PRODID:-//www.gramonet.cz//GramonetCalLib 1.0//EN
CALSCALE:GREGORIAN
METHOD:PUBLISH
BEGIN:VEVENT
SUMMARY:Zámek Žleby - večer otevřených bran
LOCATION:Zámek Žleby
DTSTART:20240824T000000
DTEND:20240825T000000
UID:2026-04-19-21-26-40@infocaslav.cz
DTSTAMP:20260419T192640
Description:Přijďte zažít Večer otevřených bran na zámku Žleby bě
 hem Hradozámecké noci 2024!    \n\n24. srpna se zámek zahalí do večer
 ního šera a nabídne vám pohled na to\, co za denního světla tiše sk
 rývá. Vyberte si jeden ze dvou zámeckých okruhů nebo jejich kombinaci
  a objevte kouzlo večerní atmosféry romantické knížecí rezidence i 
 soukromých komnat \nČervencový Večer otevřených bran byl vyprodán\,
  a proto neváhejte a zajistěte si vstupenku co nejdříve.
END:VEVENT
END:VCALENDAR
