BEGIN:VCALENDAR
VERSION:2.0
PRODID:-//www.gramonet.cz//GramonetCalLib 1.0//EN
CALSCALE:GREGORIAN
METHOD:PUBLISH
BEGIN:VEVENT
SUMMARY:Zapoj ruce a vypni hlavu
LOCATION:T.J. Sokol Čáslav
DTSTART:20250112T000000
DTEND:20250331T000000
UID:2026-04-19-19-35-58@infocaslav.cz
DTSTAMP:20260419T173558
Description:
END:VEVENT
END:VCALENDAR
