BEGIN:VCALENDAR
VERSION:2.0
PRODID:-//www.gramonet.cz//GramonetCalLib 1.0//EN
CALSCALE:GREGORIAN
METHOD:PUBLISH
BEGIN:VEVENT
SUMMARY:Zapomenutá řemesla - zámek Kačina
LOCATION:zámek Kačina
DTSTART:20230729T000000
DTEND:20230730T000000
UID:2026-04-19-19-36-41@infocaslav.cz
DTSTAMP:20260419T173641
Description:
END:VEVENT
END:VCALENDAR
