BEGIN:VCALENDAR
VERSION:2.0
PRODID:-//www.gramonet.cz//GramonetCalLib 1.0//EN
CALSCALE:GREGORIAN
METHOD:PUBLISH
BEGIN:VEVENT
SUMMARY:Zapomenutá řemesla
LOCATION:Zámek Kačina u Kutné Hory
DTSTART:20240727T000000
DTEND:20240728T000000
UID:2026-04-19-19-32-40@infocaslav.cz
DTSTAMP:20260419T173240
Description:Poslední červencovou sobotu se na zámku Kačina koná akce Z
 apomenutá řemesla. Na zámek se sjedou přadleny a řemeslníci z různ
 ch koutů naší domoviny. Návštěvníci mohou řemeslníky sledovat p
 i práci a některé činnosti si mohou i vyzkoušet.
END:VEVENT
END:VCALENDAR
