BEGIN:VCALENDAR
VERSION:2.0
PRODID:-//www.gramonet.cz//GramonetCalLib 1.0//EN
CALSCALE:GREGORIAN
METHOD:PUBLISH
BEGIN:VEVENT
SUMMARY:Zatoulaná Velikonoční vajíčka
LOCATION:Lesopark Vodranty
DTSTART:20220418T000000
DTEND:20220419T000000
UID:2026-04-19-19-36-10@infocaslav.cz
DTSTAMP:20260419T173610
Description:
END:VEVENT
END:VCALENDAR
