BEGIN:VCALENDAR
VERSION:2.0
PRODID:-//www.gramonet.cz//GramonetCalLib 1.0//EN
CALSCALE:GREGORIAN
METHOD:PUBLISH
BEGIN:VEVENT
SUMMARY:Železnohorské galusky
LOCATION:Třemošnice
DTSTART:20240615T000000
DTEND:20240616T000000
UID:2026-04-19-19-34-14@infocaslav.cz
DTSTAMP:20260419T173414
Description:CrossfitTeam Třemošnice vás zve na cyklovýlet\, není to z
 vod. Start na náměstí v Třemošnici od 10:00 hodin. Trať středně n
 áročná po silnici s dopravou a lesní cesty.
END:VEVENT
END:VCALENDAR
