BEGIN:VCALENDAR
VERSION:2.0
PRODID:-//www.gramonet.cz//GramonetCalLib 1.0//EN
CALSCALE:GREGORIAN
METHOD:PUBLISH
BEGIN:VEVENT
SUMMARY:Živý Betlém
LOCATION:Kostel sv. Petra a Pavla Čáslav
DTSTART:20241215T000000
DTEND:20241216T000000
UID:2026-04-19-21-07-01@infocaslav.cz
DTSTAMP:20260419T190701
Description:
END:VEVENT
END:VCALENDAR
