BEGIN:VCALENDAR
VERSION:2.0
PRODID:-//www.gramonet.cz//GramonetCalLib 1.0//EN
CALSCALE:GREGORIAN
METHOD:PUBLISH
BEGIN:VEVENT
SUMMARY:Žižka 600 let -přednáška českého historika, profesora PhDr. 
 Petra Čorneje, DrSc.
LOCATION:Dusíkovo divadlo
DTSTART:20240116T000000
DTEND:20240117T000000
UID:2026-04-19-19-37-20@infocaslav.cz
DTSTAMP:20260419T173720
Description:
END:VEVENT
END:VCALENDAR
