BEGIN:VCALENDAR
VERSION:2.0
PRODID:-//www.gramonet.cz//GramonetCalLib 1.0//EN
CALSCALE:GREGORIAN
METHOD:PUBLISH
BEGIN:VEVENT
SUMMARY:Projekce filmu Jan Žižka s Petrem Jáklem
LOCATION:Kino Miloše Formana Čáslav
DTSTART:20241025T000000
DTEND:20241026T000000
UID:2026-04-19-19-37-16@infocaslav.cz
DTSTAMP:20260419T173716
Description:
END:VEVENT
END:VCALENDAR
