BEGIN:VCALENDAR
VERSION:2.0
PRODID:-//www.gramonet.cz//GramonetCalLib 1.0//EN
CALSCALE:GREGORIAN
METHOD:PUBLISH
BEGIN:VEVENT
SUMMARY:Zjevné a skryté abstrakce
LOCATION:výstavní síň Městského muzea Čáslav
DTSTART:20260324T000000
DTEND:20260420T000000
UID:2026-04-19-13-56-48@infocaslav.cz
DTSTAMP:20260419T115648
Description:
END:VEVENT
END:VCALENDAR
