BEGIN:VCALENDAR
VERSION:2.0
PRODID:-//www.gramonet.cz//GramonetCalLib 1.0//EN
CALSCALE:GREGORIAN
METHOD:PUBLISH
BEGIN:VEVENT
SUMMARY:Zlatíčka
LOCATION:Dusíkovo divadlo Čáslav
DTSTART:20260428T000000
DTEND:20260429T000000
UID:2026-04-19-19-26-24@infocaslav.cz
DTSTAMP:20260419T172624
Description:
END:VEVENT
END:VCALENDAR
