BEGIN:VCALENDAR
VERSION:2.0
PRODID:-//www.gramonet.cz//GramonetCalLib 1.0//EN
CALSCALE:GREGORIAN
METHOD:PUBLISH
BEGIN:VEVENT
SUMMARY:Známí Neznámí
LOCATION:Kino Miloše Formana, Jeníkovská 138, Nové Město, 286 01 Čás
 lav
DTSTART:20220331T000000
DTEND:20220401T000000
UID:2026-04-19-19-29-57@infocaslav.cz
DTSTAMP:20260419T172957
Description:
END:VEVENT
END:VCALENDAR
