BEGIN:VCALENDAR
VERSION:2.0
PRODID:-//www.gramonet.cz//GramonetCalLib 1.0//EN
CALSCALE:GREGORIAN
METHOD:PUBLISH
BEGIN:VEVENT
SUMMARY:Zoubková víla
LOCATION:Kino
DTSTART:20230218T000000
DTEND:20230219T000000
UID:2026-04-19-19-29-55@infocaslav.cz
DTSTAMP:20260419T172955
Description:
END:VEVENT
END:VCALENDAR
