BEGIN:VCALENDAR
VERSION:2.0
PRODID:-//www.gramonet.cz//GramonetCalLib 1.0//EN
CALSCALE:GREGORIAN
METHOD:PUBLISH
BEGIN:VEVENT
SUMMARY:ZUŠ OPEN
LOCATION:Náměstí Jana Žižky z Trocnova Čáslav
DTSTART:20240520T000000
DTEND:20240521T000000
UID:2026-04-19-21-00-17@infocaslav.cz
DTSTAMP:20260419T190017
Description:
END:VEVENT
END:VCALENDAR
